BEGIN:VCALENDAR
VERSION:2.0
PRODID:-//Golden Thread Gallery - ECPv6.15.20//NONSGML v1.0//EN
CALSCALE:GREGORIAN
METHOD:PUBLISH
X-ORIGINAL-URL:https://goldenthreadgallery.co.uk
X-WR-CALDESC:Events for Golden Thread Gallery
REFRESH-INTERVAL;VALUE=DURATION:PT1H
X-Robots-Tag:noindex
X-PUBLISHED-TTL:PT1H
BEGIN:VTIMEZONE
TZID:Europe/London
BEGIN:DAYLIGHT
TZOFFSETFROM:+0000
TZOFFSETTO:+0100
TZNAME:BST
DTSTART:20250330T010000
END:DAYLIGHT
BEGIN:STANDARD
TZOFFSETFROM:+0100
TZOFFSETTO:+0000
TZNAME:GMT
DTSTART:20251026T010000
END:STANDARD
BEGIN:DAYLIGHT
TZOFFSETFROM:+0000
TZOFFSETTO:+0100
TZNAME:BST
DTSTART:20260329T010000
END:DAYLIGHT
BEGIN:STANDARD
TZOFFSETFROM:+0100
TZOFFSETTO:+0000
TZNAME:GMT
DTSTART:20261025T010000
END:STANDARD
BEGIN:DAYLIGHT
TZOFFSETFROM:+0000
TZOFFSETTO:+0100
TZNAME:BST
DTSTART:20270328T010000
END:DAYLIGHT
BEGIN:STANDARD
TZOFFSETFROM:+0100
TZOFFSETTO:+0000
TZNAME:GMT
DTSTART:20271031T010000
END:STANDARD
END:VTIMEZONE
BEGIN:VEVENT
DTSTART;TZID=Europe/London:20260402T170000
DTEND;TZID=Europe/London:20260430T200000
DTSTAMP:20260422T001131
CREATED:20260314T114508Z
LAST-MODIFIED:20260314T114508Z
UID:10000615-1775149200-1777579200@goldenthreadgallery.co.uk
SUMMARY:LATE NIGHT ART: Insight into the Other
DESCRIPTION:
URL:https://goldenthreadgallery.co.uk/event/late-night-art-insight-into-the-other-2/
CATEGORIES:Event,Exhibition
ATTACH;FMTTYPE=image/jpeg:https://goldenthreadgallery.co.uk/app/uploads/2026/03/coyoteNorth-still_hay-with-orange-strips.jpg
END:VEVENT
BEGIN:VEVENT
DTSTART;TZID=Europe/London:20260424T113000
DTEND;TZID=Europe/London:20260424T130000
DTSTAMP:20260422T001131
CREATED:20260314T113420Z
LAST-MODIFIED:20260314T113420Z
UID:10000607-1777030200-1777035600@goldenthreadgallery.co.uk
SUMMARY:Mindful Colouring Drop-In Workshop Friday 11.30-1PM
DESCRIPTION:
URL:https://goldenthreadgallery.co.uk/event/mindful-colouring-drop-in-workshop-friday-11-30-1pm-39/
LOCATION:Venue Name\, Address\, City\, County\, Postcode\, Brazil
CATEGORIES:Workshop
ATTACH;FMTTYPE=image/jpeg:https://goldenthreadgallery.co.uk/app/uploads/2026/01/Mindful-Colouring.jpg
ORGANIZER;CN="Organiser Name":MAILTO:Email
END:VEVENT
BEGIN:VEVENT
DTSTART;TZID=Europe/London:20260425T110000
DTEND;TZID=Europe/London:20260425T160000
DTSTAMP:20260422T001131
CREATED:20260402T131723Z
LAST-MODIFIED:20260403T101419Z
UID:10000621-1777114800-1777132800@goldenthreadgallery.co.uk
SUMMARY:Neurodiversity Festival: Art & Chess Event
DESCRIPTION:
URL:https://goldenthreadgallery.co.uk/event/neurodiversity-festival-art-and-chess-event/
CATEGORIES:Event
ATTACH;FMTTYPE=image/jpeg:https://goldenthreadgallery.co.uk/app/uploads/2026/04/Copy-of-Draft-Workshop-advertisements-1280-x-720-px-1.jpg
END:VEVENT
BEGIN:VEVENT
DTSTART;TZID=Europe/London:20260428T110000
DTEND;TZID=Europe/London:20260428T130000
DTSTAMP:20260422T001131
CREATED:20260314T114007Z
LAST-MODIFIED:20260314T114007Z
UID:10000614-1777374000-1777381200@goldenthreadgallery.co.uk
SUMMARY:Then\, Now & Could Be! Arts & Older People Workshops Tuesdays 11-1
DESCRIPTION:
URL:https://goldenthreadgallery.co.uk/event/then-now-could-be-arts-older-people-workshops-tuesdays-11-1-6/
LOCATION:Venue Name\, Address\, City\, County\, Postcode\, Brazil
CATEGORIES:Workshop
ATTACH;FMTTYPE=image/png:https://goldenthreadgallery.co.uk/app/uploads/2026/02/1.png
ORGANIZER;CN="Organiser Name":MAILTO:Email
END:VEVENT
BEGIN:VEVENT
DTSTART;TZID=Europe/London:20260429T120000
DTEND;TZID=Europe/London:20260429T140000
DTSTAMP:20260422T001131
CREATED:20260314T113710Z
LAST-MODIFIED:20260314T113724Z
UID:10000611-1777464000-1777471200@goldenthreadgallery.co.uk
SUMMARY:Out of Office Drop-In Sessions Wednesdays 12-2PM
DESCRIPTION:
URL:https://goldenthreadgallery.co.uk/event/out-of-office-drop-in-sessions-wednesdays-12-2pm-45/
LOCATION:Venue Name\, Address\, City\, County\, Postcode\, Brazil
CATEGORIES:Workshop
ATTACH;FMTTYPE=image/jpeg:https://goldenthreadgallery.co.uk/app/uploads/2026/01/OOO.jpg
ORGANIZER;CN="Organiser Name":MAILTO:Email
END:VEVENT
END:VCALENDAR