BEGIN:VCALENDAR
VERSION:2.0
PRODID:-//Golden Thread Gallery - ECPv6.15.20//NONSGML v1.0//EN
CALSCALE:GREGORIAN
METHOD:PUBLISH
X-ORIGINAL-URL:https://goldenthreadgallery.co.uk
X-WR-CALDESC:Events for Golden Thread Gallery
REFRESH-INTERVAL;VALUE=DURATION:PT1H
X-Robots-Tag:noindex
X-PUBLISHED-TTL:PT1H
BEGIN:VTIMEZONE
TZID:Europe/London
BEGIN:DAYLIGHT
TZOFFSETFROM:+0000
TZOFFSETTO:+0100
TZNAME:BST
DTSTART:20250330T010000
END:DAYLIGHT
BEGIN:STANDARD
TZOFFSETFROM:+0100
TZOFFSETTO:+0000
TZNAME:GMT
DTSTART:20251026T010000
END:STANDARD
BEGIN:DAYLIGHT
TZOFFSETFROM:+0000
TZOFFSETTO:+0100
TZNAME:BST
DTSTART:20260329T010000
END:DAYLIGHT
BEGIN:STANDARD
TZOFFSETFROM:+0100
TZOFFSETTO:+0000
TZNAME:GMT
DTSTART:20261025T010000
END:STANDARD
BEGIN:DAYLIGHT
TZOFFSETFROM:+0000
TZOFFSETTO:+0100
TZNAME:BST
DTSTART:20270328T010000
END:DAYLIGHT
BEGIN:STANDARD
TZOFFSETFROM:+0100
TZOFFSETTO:+0000
TZNAME:GMT
DTSTART:20271031T010000
END:STANDARD
END:VTIMEZONE
BEGIN:VEVENT
DTSTART;TZID=Europe/London:20260214T110000
DTEND;TZID=Europe/London:20260418T170000
DTSTAMP:20260422T071039
CREATED:20260115T133607Z
LAST-MODIFIED:20260203T135911Z
UID:10000567-1771066800-1776531600@goldenthreadgallery.co.uk
SUMMARY:Insight into the Other
DESCRIPTION:
URL:https://goldenthreadgallery.co.uk/event/insight-into-the-other/
CATEGORIES:Exhibition
ATTACH;FMTTYPE=image/png:https://goldenthreadgallery.co.uk/app/uploads/2026/01/Picture1.png
END:VEVENT
BEGIN:VEVENT
DTSTART;TZID=Europe/London:20260303T110000
DTEND;TZID=Europe/London:20260303T130000
DTSTAMP:20260422T071039
CREATED:20260211T131900Z
LAST-MODIFIED:20260211T131900Z
UID:10000584-1772535600-1772542800@goldenthreadgallery.co.uk
SUMMARY:Then\, Now & Could Be! Arts & Older People Workshops Tuesdays 11-1
DESCRIPTION:
URL:https://goldenthreadgallery.co.uk/event/then-now-could-be-arts-older-people-workshops-tuesdays-11-1-2/
LOCATION:Venue Name\, Address\, City\, County\, Postcode\, Brazil
CATEGORIES:Workshop
ATTACH;FMTTYPE=image/png:https://goldenthreadgallery.co.uk/app/uploads/2026/02/1.png
ORGANIZER;CN="Organiser Name":MAILTO:Email
END:VEVENT
BEGIN:VEVENT
DTSTART;TZID=Europe/London:20260304T120000
DTEND;TZID=Europe/London:20260304T140000
DTSTAMP:20260422T071039
CREATED:20260211T153035Z
LAST-MODIFIED:20260211T153035Z
UID:10000589-1772625600-1772632800@goldenthreadgallery.co.uk
SUMMARY:Out of Office Drop-In Sessions Wednesdays 12-2PM
DESCRIPTION:
URL:https://goldenthreadgallery.co.uk/event/out-of-office-drop-in-sessions-wednesdays-12-2pm-38/
LOCATION:Venue Name\, Address\, City\, County\, Postcode\, Brazil
CATEGORIES:Workshop
ATTACH;FMTTYPE=image/jpeg:https://goldenthreadgallery.co.uk/app/uploads/2026/01/OOO.jpg
ORGANIZER;CN="Organiser Name":MAILTO:Email
END:VEVENT
BEGIN:VEVENT
DTSTART;TZID=Europe/London:20260305T170000
DTEND;TZID=Europe/London:20260305T200000
DTSTAMP:20260422T071039
CREATED:20260304T154144Z
LAST-MODIFIED:20260304T154406Z
UID:10000599-1772730000-1772740800@goldenthreadgallery.co.uk
SUMMARY:LATE NIGHT ART: Insight into the Other
DESCRIPTION:
URL:https://goldenthreadgallery.co.uk/event/late-night-art-insight-into-the-other/
CATEGORIES:Event,Exhibition
ATTACH;FMTTYPE=image/jpeg:https://goldenthreadgallery.co.uk/app/uploads/2026/03/20260219-Golden-Thread-Insight-into-the-Other-050.jpg
END:VEVENT
BEGIN:VEVENT
DTSTART;TZID=Europe/London:20260307T110000
DTEND;TZID=Europe/London:20260307T120000
DTSTAMP:20260422T071039
CREATED:20260225T114101Z
LAST-MODIFIED:20260225T114101Z
UID:10000596-1772881200-1772884800@goldenthreadgallery.co.uk
SUMMARY:Family Workshop Saturday 11-12
DESCRIPTION:
URL:https://goldenthreadgallery.co.uk/event/family-workshop-saturday-11-12-15/
LOCATION:Venue Name\, Address\, City\, County\, Postcode\, Brazil
CATEGORIES:Workshop
ATTACH;FMTTYPE=image/jpeg:https://goldenthreadgallery.co.uk/app/uploads/2026/02/55.jpg
ORGANIZER;CN="Organiser Name":MAILTO:Email
END:VEVENT
BEGIN:VEVENT
DTSTART;TZID=Europe/London:20260311T120000
DTEND;TZID=Europe/London:20260311T140000
DTSTAMP:20260422T071039
CREATED:20260211T153058Z
LAST-MODIFIED:20260211T153058Z
UID:10000590-1773230400-1773237600@goldenthreadgallery.co.uk
SUMMARY:Out of Office Drop-In Sessions Wednesdays 12-2PM
DESCRIPTION:
URL:https://goldenthreadgallery.co.uk/event/out-of-office-drop-in-sessions-wednesdays-12-2pm-39/
LOCATION:Venue Name\, Address\, City\, County\, Postcode\, Brazil
CATEGORIES:Workshop
ATTACH;FMTTYPE=image/jpeg:https://goldenthreadgallery.co.uk/app/uploads/2026/01/OOO.jpg
ORGANIZER;CN="Organiser Name":MAILTO:Email
END:VEVENT
BEGIN:VEVENT
DTSTART;TZID=Europe/London:20260312T110000
DTEND;TZID=Europe/London:20260319T160000
DTSTAMP:20260422T071039
CREATED:20260311T131834Z
LAST-MODIFIED:20260311T131834Z
UID:10000600-1773313200-1773936000@goldenthreadgallery.co.uk
SUMMARY:Eid Decorations
DESCRIPTION:
URL:https://goldenthreadgallery.co.uk/event/eid-decorations/
LOCATION:Venue Name\, Address\, City\, County\, Postcode\, Brazil
CATEGORIES:Event
ATTACH;FMTTYPE=image/jpeg:https://goldenthreadgallery.co.uk/app/uploads/2026/03/Copy-of-Draft-Workshop-advertisements-1280-x-720-px.jpg
ORGANIZER;CN="Organiser Name":MAILTO:Email
END:VEVENT
BEGIN:VEVENT
DTSTART;TZID=Europe/London:20260313T113000
DTEND;TZID=Europe/London:20260313T130000
DTSTAMP:20260422T071039
CREATED:20260211T152753Z
LAST-MODIFIED:20260211T152810Z
UID:10000587-1773401400-1773406800@goldenthreadgallery.co.uk
SUMMARY:Mindful Colouring Drop-In Workshop Friday 11.30-1PM
DESCRIPTION:
URL:https://goldenthreadgallery.co.uk/event/mindful-colouring-drop-in-workshop-friday-11-30-1pm-34/
LOCATION:Venue Name\, Address\, City\, County\, Postcode\, Brazil
CATEGORIES:Workshop
ATTACH;FMTTYPE=image/jpeg:https://goldenthreadgallery.co.uk/app/uploads/2026/01/Mindful-Colouring.jpg
ORGANIZER;CN="Organiser Name":MAILTO:Email
END:VEVENT
BEGIN:VEVENT
DTSTART;TZID=Europe/London:20260314T133000
DTEND;TZID=Europe/London:20260314T150000
DTSTAMP:20260422T071039
CREATED:20260225T115455Z
LAST-MODIFIED:20260225T122406Z
UID:10000598-1773495000-1773500400@goldenthreadgallery.co.uk
SUMMARY:Creative Workshop for Teens & Adults 1.30-3
DESCRIPTION:
URL:https://goldenthreadgallery.co.uk/event/creative-workshop-for-teens-adults-1-30-3-8/
LOCATION:Venue Name\, Address\, City\, County\, Postcode\, Brazil
CATEGORIES:Workshop
ATTACH;FMTTYPE=image/jpeg:https://goldenthreadgallery.co.uk/app/uploads/2026/02/Copy-of-Draft-Workshop-advertisements-1280-x-720-px.jpg
ORGANIZER;CN="Organiser Name":MAILTO:Email
END:VEVENT
BEGIN:VEVENT
DTSTART;TZID=Europe/London:20260318T120000
DTEND;TZID=Europe/London:20260318T140000
DTSTAMP:20260422T071039
CREATED:20260211T153119Z
LAST-MODIFIED:20260211T153119Z
UID:10000591-1773835200-1773842400@goldenthreadgallery.co.uk
SUMMARY:Out of Office Drop-In Sessions Wednesdays 12-2PM
DESCRIPTION:
URL:https://goldenthreadgallery.co.uk/event/out-of-office-drop-in-sessions-wednesdays-12-2pm-40/
LOCATION:Venue Name\, Address\, City\, County\, Postcode\, Brazil
CATEGORIES:Workshop
ATTACH;FMTTYPE=image/jpeg:https://goldenthreadgallery.co.uk/app/uploads/2026/01/OOO.jpg
ORGANIZER;CN="Organiser Name":MAILTO:Email
END:VEVENT
BEGIN:VEVENT
DTSTART;TZID=Europe/London:20260321T110000
DTEND;TZID=Europe/London:20260321T120000
DTSTAMP:20260422T071039
CREATED:20260225T114710Z
LAST-MODIFIED:20260314T102803Z
UID:10000597-1774090800-1774094400@goldenthreadgallery.co.uk
SUMMARY:Family Workshop Saturday 11-12
DESCRIPTION:
URL:https://goldenthreadgallery.co.uk/event/family-workshop-saturday-11-12-16/
LOCATION:Venue Name\, Address\, City\, County\, Postcode\, Brazil
CATEGORIES:Workshop
ATTACH;FMTTYPE=image/jpeg:https://goldenthreadgallery.co.uk/app/uploads/2026/02/56.jpg
ORGANIZER;CN="Organiser Name":MAILTO:Email
END:VEVENT
BEGIN:VEVENT
DTSTART;TZID=Europe/London:20260324T110000
DTEND;TZID=Europe/London:20260324T130000
DTSTAMP:20260422T071039
CREATED:20260211T131917Z
LAST-MODIFIED:20260211T132033Z
UID:10000585-1774350000-1774357200@goldenthreadgallery.co.uk
SUMMARY:Then\, Now & Could Be! Arts & Older People Workshops Tuesdays 11-1
DESCRIPTION:
URL:https://goldenthreadgallery.co.uk/event/then-now-could-be-arts-older-people-workshops-tuesdays-11-1-3/
LOCATION:Venue Name\, Address\, City\, County\, Postcode\, Brazil
CATEGORIES:Workshop
ATTACH;FMTTYPE=image/png:https://goldenthreadgallery.co.uk/app/uploads/2026/02/1.png
ORGANIZER;CN="Organiser Name":MAILTO:Email
END:VEVENT
BEGIN:VEVENT
DTSTART;TZID=Europe/London:20260325T120000
DTEND;TZID=Europe/London:20260325T140000
DTSTAMP:20260422T071039
CREATED:20260211T153135Z
LAST-MODIFIED:20260211T153135Z
UID:10000592-1774440000-1774447200@goldenthreadgallery.co.uk
SUMMARY:Out of Office Drop-In Sessions Wednesdays 12-2PM
DESCRIPTION:
URL:https://goldenthreadgallery.co.uk/event/out-of-office-drop-in-sessions-wednesdays-12-2pm-41/
LOCATION:Venue Name\, Address\, City\, County\, Postcode\, Brazil
CATEGORIES:Workshop
ATTACH;FMTTYPE=image/jpeg:https://goldenthreadgallery.co.uk/app/uploads/2026/01/OOO.jpg
ORGANIZER;CN="Organiser Name":MAILTO:Email
END:VEVENT
BEGIN:VEVENT
DTSTART;TZID=Europe/London:20260327T113000
DTEND;TZID=Europe/London:20260327T130000
DTSTAMP:20260422T071039
CREATED:20260211T152857Z
LAST-MODIFIED:20260211T152910Z
UID:10000588-1774611000-1774616400@goldenthreadgallery.co.uk
SUMMARY:Mindful Colouring Drop-In Workshop Friday 11.30-1PM
DESCRIPTION:
URL:https://goldenthreadgallery.co.uk/event/mindful-colouring-drop-in-workshop-friday-11-30-1pm-35/
LOCATION:Venue Name\, Address\, City\, County\, Postcode\, Brazil
CATEGORIES:Workshop
ATTACH;FMTTYPE=image/jpeg:https://goldenthreadgallery.co.uk/app/uploads/2026/01/Mindful-Colouring.jpg
ORGANIZER;CN="Organiser Name":MAILTO:Email
END:VEVENT
BEGIN:VEVENT
DTSTART;TZID=Europe/London:20260328T110000
DTEND;TZID=Europe/London:20260328T120000
DTSTAMP:20260422T071039
CREATED:20260211T153215Z
LAST-MODIFIED:20260211T153215Z
UID:10000593-1774695600-1774699200@goldenthreadgallery.co.uk
SUMMARY:GTG Plant Swap Saturday 28th March
DESCRIPTION:
URL:https://goldenthreadgallery.co.uk/event/gtg-plant-swap-saturday-28th-march/
CATEGORIES:Event
ATTACH;FMTTYPE=image/jpeg:https://goldenthreadgallery.co.uk/app/uploads/2026/01/Plant-Swap.jpg
END:VEVENT
BEGIN:VEVENT
DTSTART;TZID=Europe/London:20260328T130000
DTEND;TZID=Europe/London:20260328T150000
DTSTAMP:20260422T071039
CREATED:20260211T153303Z
LAST-MODIFIED:20260211T153303Z
UID:10000594-1774702800-1774710000@goldenthreadgallery.co.uk
SUMMARY:Puzzle Corner
DESCRIPTION:
URL:https://goldenthreadgallery.co.uk/event/puzzle-corner-3/
CATEGORIES:Event
ATTACH;FMTTYPE=image/jpeg:https://goldenthreadgallery.co.uk/app/uploads/2026/01/Puzzle-Corner.jpg
END:VEVENT
END:VCALENDAR